BEGIN:VCALENDAR
VERSION:2.0
PRODID: -//Q4 Inc.//EN
METHOD:PUBLISH
BEGIN:VTIMEZONE
TZID:America/New_York
X-LIC-LOCATION:America/New_York
BEGIN:DAYLIGHT
TZOFFSETFROM:-0500
TZOFFSETTO:-0400
TZNAME:EDT
DTSTART:19700308T020000
RRULE:FREQ=YEARLY;BYMONTH=3;BYDAY=2SU
END:DAYLIGHT
BEGIN:STANDARD
TZOFFSETFROM:-0400
TZOFFSETTO:-0500
TZNAME:EST
DTSTART:19701101T020000
RRULE:FREQ=YEARLY;BYMONTH=11;BYDAY=1SU
END:STANDARD
END:VTIMEZONE
BEGIN:VEVENT
ORGANIZER:MAILTO:no-reply@q4websystems.com
DTSTART;TZID="America/New_York":20160607T141500
DTEND;TZID="America/New_York":20160607T144500
LOCATION:
UID:babdf144-93d6-4e9d-a6ca-d3e0eb2daf96
DTSTAMP:20260422T062121
SUMMARY:Senior Housing Properties Trust Presentation at REITWeek 2016: NAREIT's Investor Forum
DESCRIPTION: View More Information: https://www.dhcreit.com/investors/events-and-presentations/event-details/2016/Senior-Housing-Properties-Trust-Presentation-at-REITWeek-2016-NAREITs-Investor-Forum/default.aspx
URL;VALUE=URI:https://www.dhcreit.com/investors/events-and-presentations/event-details/2016/Senior-Housing-Properties-Trust-Presentation-at-REITWeek-2016-NAREITs-Investor-Forum/default.aspx
PRIORITY:5
CLASS:PUBLIC
END:VEVENT
END:VCALENDAR
