BEGIN:VCALENDAR
VERSION:2.0
PRODID: -//Q4 Inc.//EN
METHOD:PUBLISH
BEGIN:VTIMEZONE
TZID:America/New_York
X-LIC-LOCATION:America/New_York
BEGIN:DAYLIGHT
TZOFFSETFROM:-0500
TZOFFSETTO:-0400
TZNAME:EDT
DTSTART:19700308T020000
RRULE:FREQ=YEARLY;BYMONTH=3;BYDAY=2SU
END:DAYLIGHT
BEGIN:STANDARD
TZOFFSETFROM:-0400
TZOFFSETTO:-0500
TZNAME:EST
DTSTART:19701101T020000
RRULE:FREQ=YEARLY;BYMONTH=11;BYDAY=1SU
END:STANDARD
END:VTIMEZONE
BEGIN:VEVENT
ORGANIZER:MAILTO:no-reply@q4websystems.com
DTSTART;TZID="America/New_York":20180606T163000
DTEND;TZID="America/New_York":20180606T170000
LOCATION:
UID:71b59889-7890-4d8c-b62e-8cabf0cf64eb
DTSTAMP:20260422T062553
SUMMARY:Senior Housing Properties Trust to Present at Nareit REITweek 2018: Investor Conference
DESCRIPTION: View More Information: https://www.dhcreit.com/investors/events-and-presentations/event-details/2018/Senior-Housing-Properties-Trust-to-Present-at-Nareit-REITweek-2018-Investor-Conference/default.aspx
URL;VALUE=URI:https://www.dhcreit.com/investors/events-and-presentations/event-details/2018/Senior-Housing-Properties-Trust-to-Present-at-Nareit-REITweek-2018-Investor-Conference/default.aspx
PRIORITY:5
CLASS:PUBLIC
END:VEVENT
END:VCALENDAR
