BEGIN:VCALENDAR
VERSION:2.0
PRODID: -//Q4 Inc.//EN
METHOD:PUBLISH
BEGIN:VTIMEZONE
TZID:America/New_York
X-LIC-LOCATION:America/New_York
BEGIN:DAYLIGHT
TZOFFSETFROM:-0500
TZOFFSETTO:-0400
TZNAME:EDT
DTSTART:19700308T020000
RRULE:FREQ=YEARLY;BYMONTH=3;BYDAY=2SU
END:DAYLIGHT
BEGIN:STANDARD
TZOFFSETFROM:-0400
TZOFFSETTO:-0500
TZNAME:EST
DTSTART:19701101T020000
RRULE:FREQ=YEARLY;BYMONTH=11;BYDAY=1SU
END:STANDARD
END:VTIMEZONE
BEGIN:VEVENT
ORGANIZER:MAILTO:no-reply@q4websystems.com
DTSTART;TZID="America/New_York":20180627T000000
DTEND;TZID="America/New_York":20180627T000000
LOCATION:New York, NY
UID:1f32928f-4bff-415d-aa97-6dd4e89ab7cd
DTSTAMP:20260422T062307
SUMMARY:Mizuho Global REIT/Real Estate Conference 2018
DESCRIPTION: View More Information: https://www.dhcreit.com/investors/events-and-presentations/event-details/2018/Mizuho-Global-REIT-Real-Estate-Conference-2018/default.aspx
URL;VALUE=URI:https://www.dhcreit.com/investors/events-and-presentations/event-details/2018/Mizuho-Global-REIT-Real-Estate-Conference-2018/default.aspx
PRIORITY:5
CLASS:PUBLIC
END:VEVENT
END:VCALENDAR
