BEGIN:VCALENDAR
VERSION:2.0
PRODID: -//Q4 Inc.//EN
METHOD:PUBLISH
BEGIN:VTIMEZONE
TZID:America/New_York
X-LIC-LOCATION:America/New_York
BEGIN:DAYLIGHT
TZOFFSETFROM:-0500
TZOFFSETTO:-0400
TZNAME:EDT
DTSTART:19700308T020000
RRULE:FREQ=YEARLY;BYMONTH=3;BYDAY=2SU
END:DAYLIGHT
BEGIN:STANDARD
TZOFFSETFROM:-0400
TZOFFSETTO:-0500
TZNAME:EST
DTSTART:19701101T020000
RRULE:FREQ=YEARLY;BYMONTH=11;BYDAY=1SU
END:STANDARD
END:VTIMEZONE
BEGIN:VEVENT
ORGANIZER:MAILTO:no-reply@q4websystems.com
DTSTART;TZID="America/New_York":20220504T100000
DTEND;TZID="America/New_York":20220504T110000
LOCATION:
UID:93aea5a1-cea1-4c0a-96f2-c3f75e31cdb7
DTSTAMP:20260422T055803
SUMMARY:Diversified Healthcare Trust First Quarter 2022 Conference Call
DESCRIPTION: View More Information: https://www.dhcreit.com/investors/events-and-presentations/event-details/2022/Diversified-Healthcare-Trust-First-Quarter-2022-Conference-Call/default.aspx
URL;VALUE=URI:https://www.dhcreit.com/investors/events-and-presentations/event-details/2022/Diversified-Healthcare-Trust-First-Quarter-2022-Conference-Call/default.aspx
PRIORITY:5
CLASS:PUBLIC
END:VEVENT
END:VCALENDAR
