BEGIN:VCALENDAR
VERSION:2.0
PRODID: -//Q4 Inc.//EN
METHOD:PUBLISH
BEGIN:VTIMEZONE
TZID:America/New_York
X-LIC-LOCATION:America/New_York
BEGIN:DAYLIGHT
TZOFFSETFROM:-0500
TZOFFSETTO:-0400
TZNAME:EDT
DTSTART:19700308T020000
RRULE:FREQ=YEARLY;BYMONTH=3;BYDAY=2SU
END:DAYLIGHT
BEGIN:STANDARD
TZOFFSETFROM:-0400
TZOFFSETTO:-0500
TZNAME:EST
DTSTART:19701101T020000
RRULE:FREQ=YEARLY;BYMONTH=11;BYDAY=1SU
END:STANDARD
END:VTIMEZONE
BEGIN:VEVENT
ORGANIZER:MAILTO:no-reply@q4websystems.com
DTSTART;TZID="America/New_York":20240802T000000
DTEND;TZID="America/New_York":20240802T180000
LOCATION:
UID:abb0dd79-6ca1-423a-b29e-4b67639123ed
DTSTAMP:20260422T062258
SUMMARY:Diversified Healthcare Trust Second Quarter 2024 Conference Call
DESCRIPTION: View More Information: https://www.dhcreit.com/investors/events-and-presentations/event-details/2024/Diversified-Healthcare-Trust-Second-Quarter-2024-Conference-Call/default.aspx
URL;VALUE=URI:https://www.dhcreit.com/investors/events-and-presentations/event-details/2024/Diversified-Healthcare-Trust-Second-Quarter-2024-Conference-Call/default.aspx
PRIORITY:5
CLASS:PUBLIC
END:VEVENT
END:VCALENDAR
